BEGIN:VCALENDAR
VERSION:2.0
PRODID:-//https://calenda-formation.labocleo.org
X-WR-CALNAME:Calenda
X-WR-TIMEZONE:Europe/Paris
CALSCALE:GREGORIAN
X-WR-CALDESC:The calendar for arts, humanities and social sciences
METHOD:PUBLISH
BEGIN:VEVENT
DTSTART;VALUE=DATE:20170331
DTEND;VALUE=DATE:20170401
UID:385551-20170331@calenda.revues.org
SUMMARY:Regions and regionalisme in the European Union
URL:https://calenda-formation.labocleo.org/385551
DESCRIPTION:The Lille Jean Monnet Conference is the key event of the project EURÉGIO\, led by the University of Lille 1 since September 2015 in the framework of the European programme Eramus + Jean Monnet\, with the objective to appraise the knowledge\, foster the … @plus_info https://calenda-formation.labocleo.org/385551
LOCATION:Villeneuve-d'Ascq
END:VEVENT
END:VCALENDAR
