BEGIN:VCALENDAR
VERSION:2.0
PRODID:-//https://calenda-formation.labocleo.org
X-WR-CALNAME:Calenda
X-WR-TIMEZONE:Europe/Paris
CALSCALE:GREGORIAN
X-WR-CALDESC:Le calendrier des lettres et sciences humaines et sociales
METHOD:PUBLISH
BEGIN:VEVENT
DTSTART;VALUE=DATE:20161121
DTEND;VALUE=DATE:20161122
UID:385858-20161121@calenda.revues.org
SUMMARY:L’intégration européenne : mythes et limites (2016 / 2017)
URL:https://calenda-formation.labocleo.org/385858
DESCRIPTION:Ce deuxième séminaire s'inscrit dans le cadre d'un cycle de séminaires 2016-2017 sur « L'intégration européenne - mythes et limites ». Pendant l'année 2016-2017\, nous nous pencherons\, à chaque fois\, sur un texte différent\, que nous discuterons en pré… Weitere Informationen https://calenda-formation.labocleo.org/385858
LOCATION:Nantes
END:VEVENT
BEGIN:VEVENT
DTSTART;VALUE=DATE:20161205
DTEND;VALUE=DATE:20161206
UID:385858-20161205@calenda.revues.org
SUMMARY:L’intégration européenne : mythes et limites (2016 / 2017)
URL:https://calenda-formation.labocleo.org/385858
DESCRIPTION:Ce deuxième séminaire s'inscrit dans le cadre d'un cycle de séminaires 2016-2017 sur « L'intégration européenne - mythes et limites ». Pendant l'année 2016-2017\, nous nous pencherons\, à chaque fois\, sur un texte différent\, que nous discuterons en pré… Weitere Informationen https://calenda-formation.labocleo.org/385858
LOCATION:Nantes
END:VEVENT
BEGIN:VEVENT
DTSTART;VALUE=DATE:20170126
DTEND;VALUE=DATE:20170127
UID:385858-20170126@calenda.revues.org
SUMMARY:L’intégration européenne : mythes et limites (2016 / 2017)
URL:https://calenda-formation.labocleo.org/385858
DESCRIPTION:Ce deuxième séminaire s'inscrit dans le cadre d'un cycle de séminaires 2016-2017 sur « L'intégration européenne - mythes et limites ». Pendant l'année 2016-2017\, nous nous pencherons\, à chaque fois\, sur un texte différent\, que nous discuterons en pré… Weitere Informationen https://calenda-formation.labocleo.org/385858
LOCATION:Nantes
END:VEVENT
BEGIN:VEVENT
DTSTART;VALUE=DATE:20170217
DTEND;VALUE=DATE:20170218
UID:385858-20170217@calenda.revues.org
SUMMARY:L’intégration européenne : mythes et limites (2016 / 2017)
URL:https://calenda-formation.labocleo.org/385858
DESCRIPTION:Ce deuxième séminaire s'inscrit dans le cadre d'un cycle de séminaires 2016-2017 sur « L'intégration européenne - mythes et limites ». Pendant l'année 2016-2017\, nous nous pencherons\, à chaque fois\, sur un texte différent\, que nous discuterons en pré… Weitere Informationen https://calenda-formation.labocleo.org/385858
LOCATION:Nantes
END:VEVENT
BEGIN:VEVENT
DTSTART;VALUE=DATE:20170427
DTEND;VALUE=DATE:20170428
UID:385858-20170427@calenda.revues.org
SUMMARY:L’intégration européenne : mythes et limites (2016 / 2017)
URL:https://calenda-formation.labocleo.org/385858
DESCRIPTION:Ce deuxième séminaire s'inscrit dans le cadre d'un cycle de séminaires 2016-2017 sur « L'intégration européenne - mythes et limites ». Pendant l'année 2016-2017\, nous nous pencherons\, à chaque fois\, sur un texte différent\, que nous discuterons en pré… Weitere Informationen https://calenda-formation.labocleo.org/385858
LOCATION:Nantes
END:VEVENT
BEGIN:VEVENT
DTSTART;VALUE=DATE:20170517
DTEND;VALUE=DATE:20170518
UID:385858-20170517@calenda.revues.org
SUMMARY:L’intégration européenne : mythes et limites (2016 / 2017)
URL:https://calenda-formation.labocleo.org/385858
DESCRIPTION:Ce deuxième séminaire s'inscrit dans le cadre d'un cycle de séminaires 2016-2017 sur « L'intégration européenne - mythes et limites ». Pendant l'année 2016-2017\, nous nous pencherons\, à chaque fois\, sur un texte différent\, que nous discuterons en pré… Weitere Informationen https://calenda-formation.labocleo.org/385858
LOCATION:Nantes
END:VEVENT
END:VCALENDAR
