BEGIN:VCALENDAR
VERSION:2.0
PRODID:-//https://calenda-formation.labocleo.org
X-WR-CALNAME:Calenda
X-WR-TIMEZONE:Europe/Paris
CALSCALE:GREGORIAN
X-WR-CALDESC:The calendar for arts, humanities and social sciences
METHOD:PUBLISH
BEGIN:VEVENT
DTSTART;VALUE=DATE:20161201
DTEND;VALUE=DATE:20161202
UID:386042-20161201@calenda.revues.org
SUMMARY:Questioning institutionalism and women's rights - dynamics\, issues and effects
URL:https://calenda-formation.labocleo.org/386042
DESCRIPTION:Ces journées d’étude proposent d’interroger l’institutionnalisation de l’espace de la cause des femmes\, entendu au sens de « configuration des sites de mobilisation au nom des femmes et pour les femmes dans une pluralité de sphères sociales » (Bereni… @plus_info https://calenda-formation.labocleo.org/386042
LOCATION:Paris
END:VEVENT
BEGIN:VEVENT
DTSTART;VALUE=DATE:20161202
DTEND;VALUE=DATE:20161203
UID:386042-20161202@calenda.revues.org
SUMMARY:Questioning institutionalism and women's rights - dynamics\, issues and effects
URL:https://calenda-formation.labocleo.org/386042
DESCRIPTION:Ces journées d’étude proposent d’interroger l’institutionnalisation de l’espace de la cause des femmes\, entendu au sens de « configuration des sites de mobilisation au nom des femmes et pour les femmes dans une pluralité de sphères sociales » (Bereni… @plus_info https://calenda-formation.labocleo.org/386042
LOCATION:Paris
END:VEVENT
END:VCALENDAR
