BEGIN:VCALENDAR
VERSION:2.0
PRODID:-//https://calenda-formation.labocleo.org
X-WR-CALNAME:Calenda
X-WR-TIMEZONE:Europe/Paris
CALSCALE:GREGORIAN
X-WR-CALDESC:Le calendrier des lettres et sciences humaines et sociales
METHOD:PUBLISH
BEGIN:VEVENT
DTSTART;VALUE=DATE:20161216
DTEND;VALUE=DATE:20161217
UID:386161-20161216@calenda.revues.org
SUMMARY:Tracer et transgresser\, construire et déconstruire les limites en contexte (post)colonial
URL:https://calenda-formation.labocleo.org/386161
DESCRIPTION:L’expérience de la subalternité coloniale se fonde sur une dépossession de l’espace. Quadrillé et normé par l’autorité impérialiste qui le conquiert\, cet espace renvoie à des pratiques multiples\, souvent inédites ou spécifiques où se négocie incessam… @plus_info https://calenda-formation.labocleo.org/386161
LOCATION:Bordeaux
END:VEVENT
END:VCALENDAR
