BEGIN:VCALENDAR
VERSION:2.0
PRODID:-//https://calenda-formation.labocleo.org
X-WR-CALNAME:Calenda
X-WR-TIMEZONE:Europe/Paris
CALSCALE:GREGORIAN
X-WR-CALDESC:The calendar for arts, humanities and social sciences
METHOD:PUBLISH
BEGIN:VEVENT
DTSTART;VALUE=DATE:20161209
DTEND;VALUE=DATE:20161210
UID:386178-20161209@calenda.revues.org
SUMMARY:City / Cité: the transatlantic dialogue
URL:https://calenda-formation.labocleo.org/386178
DESCRIPTION:À l’heure où les ondes de choc du Brexit et des élections américaines se prolongent sur cette rive de l’Atlantique dans un contexte de crise politique mondiale\, City / Cité rassemble des chercheurs\, des élus\, des urbanistes\, des militants associatifs… @plus_info https://calenda-formation.labocleo.org/386178
LOCATION:Paris
END:VEVENT
BEGIN:VEVENT
DTSTART;VALUE=DATE:20161210
DTEND;VALUE=DATE:20161211
UID:386178-20161210@calenda.revues.org
SUMMARY:City / Cité: the transatlantic dialogue
URL:https://calenda-formation.labocleo.org/386178
DESCRIPTION:À l’heure où les ondes de choc du Brexit et des élections américaines se prolongent sur cette rive de l’Atlantique dans un contexte de crise politique mondiale\, City / Cité rassemble des chercheurs\, des élus\, des urbanistes\, des militants associatifs… @plus_info https://calenda-formation.labocleo.org/386178
LOCATION:Paris
END:VEVENT
END:VCALENDAR
