BEGIN:VCALENDAR
VERSION:2.0
PRODID:-//https://calenda-formation.labocleo.org
X-WR-CALNAME:Calenda
X-WR-TIMEZONE:Europe/Paris
CALSCALE:GREGORIAN
X-WR-CALDESC:The calendar for arts, humanities and social sciences
METHOD:PUBLISH
BEGIN:VEVENT
DTSTART;VALUE=DATE:20161215
DTEND;VALUE=DATE:20161216
UID:386183-20161215@calenda.revues.org
SUMMARY:Qualitative and quantitative sociological enquiry in technoscientific projects
URL:https://calenda-formation.labocleo.org/386183
DESCRIPTION:Le stage s’inscrit dans le cadre d’un programme de recherche en sciences sociales faisant partie du projet H2020 DESTRESS « Demonstration of soft simulation treatments of geothermal reservoirs » auquel le Labex G-EAU-THERMIE profonde (Unistra/CNRS/ES… @plus_info https://calenda-formation.labocleo.org/386183
LOCATION:Strasbourg
END:VEVENT
END:VCALENDAR
