BEGIN:VCALENDAR
VERSION:2.0
PRODID:-//https://calenda-formation.labocleo.org
X-WR-CALNAME:Calenda
X-WR-TIMEZONE:Europe/Paris
CALSCALE:GREGORIAN
X-WR-CALDESC:The calendar for arts, humanities and social sciences
METHOD:PUBLISH
BEGIN:VEVENT
DTSTART;VALUE=DATE:20161224
DTEND;VALUE=DATE:20161225
UID:386198-20161224@calenda.revues.org
SUMMARY:Restoring or rehabilitating architecture\, 19th-21st centuries
URL:https://calenda-formation.labocleo.org/386198
DESCRIPTION:Ce colloque porte sur l’historiographie des pratiques et des représentations patrimoniales de l’architecture\, des espaces urbains et des paysages des et aux XIXe\, XXe et XXIe siècles\, ce qui suppose une ouverture des débats aux spécialistes des pério… @plus_info https://calenda-formation.labocleo.org/386198
LOCATION:Paris
END:VEVENT
END:VCALENDAR
