BEGIN:VCALENDAR
VERSION:2.0
PRODID:-//https://calenda-formation.labocleo.org
X-WR-CALNAME:Calenda
X-WR-TIMEZONE:Europe/Paris
CALSCALE:GREGORIAN
X-WR-CALDESC:Le calendrier des lettres et sciences humaines et sociales
METHOD:PUBLISH
BEGIN:VEVENT
DTSTART;VALUE=DATE:20170110
DTEND;VALUE=DATE:20170111
UID:386290-20170110@calenda.revues.org
SUMMARY:Contrat postdoctoral : « Mapping the French surveys of Bithynia online »
URL:https://calenda-formation.labocleo.org/386290
DESCRIPTION:Le laboratoire d'excellende « Religions et sociétés dans le monde méditerranéen » (labex RESMED) lance un appel à candidatures à un contrat post-doctoral en humanités numériques de six mois à pourvoir le 1er février 2017. Le projet concerne la valori… Más informaciones https://calenda-formation.labocleo.org/386290
LOCATION:París
END:VEVENT
END:VCALENDAR
