BEGIN:VCALENDAR
VERSION:2.0
PRODID:-//https://calenda-formation.labocleo.org
X-WR-CALNAME:Calenda
X-WR-TIMEZONE:Europe/Paris
CALSCALE:GREGORIAN
X-WR-CALDESC:Le calendrier des lettres et sciences humaines et sociales
METHOD:PUBLISH
BEGIN:VEVENT
DTSTART;VALUE=DATE:20170215
DTEND;VALUE=DATE:20170216
UID:387216-20170215@calenda.revues.org
SUMMARY:War hecatomb: effects on health\, demography and modern thought (XIXth-XXIst centuries) 
URL:https://calenda-formation.labocleo.org/387216
DESCRIPTION:Without an exclusive focus on the two world wars and considering that other major conflicts had direct effects in demography\, health and in the modern thought\, this conference aims to open the historiographic debate in this almost yet unexplored topi… Weitere Informationen https://calenda-formation.labocleo.org/387216
LOCATION:Lissabon
END:VEVENT
END:VCALENDAR
