BEGIN:VCALENDAR
VERSION:2.0
PRODID:-//https://calenda-formation.labocleo.org
X-WR-CALNAME:Calenda
X-WR-TIMEZONE:Europe/Paris
CALSCALE:GREGORIAN
X-WR-CALDESC:The calendar for arts, humanities and social sciences
METHOD:PUBLISH
BEGIN:VEVENT
DTSTART;VALUE=DATE:20161213
DTEND;VALUE=DATE:20161214
UID:387363-20161213@calenda.revues.org
SUMMARY:Corpus and South East Asian languages - digital processing and exploitation - Afrase 2016
URL:https://calenda-formation.labocleo.org/387363
DESCRIPTION:Les rencontres de l’Afrase 2016 sont dédiées aux corpus en langues d’Asie du Sud-Est. La conservation et l’exploitation des corpus oraux et textuels sont aujourd’hui grandement facilitées par l’utilisation des outils numériques. Numérisés et exploité… @plus_info https://calenda-formation.labocleo.org/387363
LOCATION:Paris
END:VEVENT
END:VCALENDAR
