BEGIN:VCALENDAR
VERSION:2.0
PRODID:-//https://calenda-formation.labocleo.org
X-WR-CALNAME:Calenda
X-WR-TIMEZONE:Europe/Paris
CALSCALE:GREGORIAN
X-WR-CALDESC:The calendar for arts, humanities and social sciences
METHOD:PUBLISH
BEGIN:VEVENT
DTSTART;VALUE=DATE:20170213
DTEND;VALUE=DATE:20170214
UID:388834-20170213@calenda.revues.org
SUMMARY:Tidal energy yesterday\, today and tomorrow
URL:https://calenda-formation.labocleo.org/388834
DESCRIPTION:Cet appel à communications et/ou à posters propose d'aborder la façon dont l'énergie des marées est ou a été exploitée par l'homme quelle que soit l'époque ou le lieu. … @plus_info https://calenda-formation.labocleo.org/388834
LOCATION:Rennes\, La Richardais\, La Vicomté-sur-Rance\, Saint-Père
END:VEVENT
END:VCALENDAR
