BEGIN:VCALENDAR
VERSION:2.0
PRODID:-//https://calenda-formation.labocleo.org
X-WR-CALNAME:Calenda
X-WR-TIMEZONE:Europe/Paris
CALSCALE:GREGORIAN
X-WR-CALDESC:The calendar for arts, humanities and social sciences
METHOD:PUBLISH
BEGIN:VEVENT
DTSTART;VALUE=DATE:20170118
DTEND;VALUE=DATE:20170119
UID:389257-20170118@calenda.revues.org
SUMMARY:What do images in public space do?
URL:https://calenda-formation.labocleo.org/389257
DESCRIPTION:Dans le champ des études visuelles\, d’importants travaux publiés ou traduits récemment portent sur l’agentivité des images. Parallèlement\, les concepts de performance et de performativité sont de plus en plus employés dans les sciences sociales\, et e… @plus_info https://calenda-formation.labocleo.org/389257
LOCATION:Geneva
END:VEVENT
BEGIN:VEVENT
DTSTART;VALUE=DATE:20170119
DTEND;VALUE=DATE:20170120
UID:389257-20170119@calenda.revues.org
SUMMARY:What do images in public space do?
URL:https://calenda-formation.labocleo.org/389257
DESCRIPTION:Dans le champ des études visuelles\, d’importants travaux publiés ou traduits récemment portent sur l’agentivité des images. Parallèlement\, les concepts de performance et de performativité sont de plus en plus employés dans les sciences sociales\, et e… @plus_info https://calenda-formation.labocleo.org/389257
LOCATION:Geneva
END:VEVENT
BEGIN:VEVENT
DTSTART;VALUE=DATE:20170120
DTEND;VALUE=DATE:20170121
UID:389257-20170120@calenda.revues.org
SUMMARY:What do images in public space do?
URL:https://calenda-formation.labocleo.org/389257
DESCRIPTION:Dans le champ des études visuelles\, d’importants travaux publiés ou traduits récemment portent sur l’agentivité des images. Parallèlement\, les concepts de performance et de performativité sont de plus en plus employés dans les sciences sociales\, et e… @plus_info https://calenda-formation.labocleo.org/389257
LOCATION:Geneva
END:VEVENT
END:VCALENDAR
