BEGIN:VCALENDAR
VERSION:2.0
PRODID:-//https://calenda-formation.labocleo.org
X-WR-CALNAME:Calenda
X-WR-TIMEZONE:Europe/Paris
CALSCALE:GREGORIAN
X-WR-CALDESC:The calendar for arts, humanities and social sciences
METHOD:PUBLISH
BEGIN:VEVENT
DTSTART;VALUE=DATE:20170301
DTEND;VALUE=DATE:20170302
UID:389271-20170301@calenda.revues.org
SUMMARY:Juvenile sexualities (19th-20th centuries) 
URL:https://calenda-formation.labocleo.org/389271
DESCRIPTION:L’histoire de la sexualité\, tant en termes de pratiques que de représentations\, mais aussi l’histoire de la jeunesse « régulière » comme celle de la jeunesse « irrégulière »\, ont donné lieu depuis maintenant plus de quarante ans à d’importants travau… @plus_info https://calenda-formation.labocleo.org/389271
LOCATION:
END:VEVENT
END:VCALENDAR
