BEGIN:VCALENDAR
VERSION:2.0
PRODID:-//https://calenda-formation.labocleo.org
X-WR-CALNAME:Calenda
X-WR-TIMEZONE:Europe/Paris
CALSCALE:GREGORIAN
X-WR-CALDESC:Le calendrier des lettres et sciences humaines et sociales
METHOD:PUBLISH
BEGIN:VEVENT
DTSTART;VALUE=DATE:20170324
DTEND;VALUE=DATE:20170325
UID:389349-20170324@calenda.revues.org
SUMMARY:Perspectivas antiguas sobre un tema actual
URL:https://calenda-formation.labocleo.org/389349
DESCRIPTION:Numerous armed conflicts around the world make that peace be a longing for millions. In the case of Colombia\, peace has been sought for more than 60 years of an internal conflict that seems to be coming to an end\, thanks to the final agreement that t… @plus_info https://calenda-formation.labocleo.org/389349
LOCATION:Bogotá
END:VEVENT
END:VCALENDAR
