BEGIN:VCALENDAR
VERSION:2.0
PRODID:-//https://calenda-formation.labocleo.org
X-WR-CALNAME:Calenda
X-WR-TIMEZONE:Europe/Paris
CALSCALE:GREGORIAN
X-WR-CALDESC:Le calendrier des lettres et sciences humaines et sociales
METHOD:PUBLISH
BEGIN:VEVENT
DTSTART;VALUE=DATE:20170130
DTEND;VALUE=DATE:20170131
UID:389439-20170130@calenda.revues.org
SUMMARY:Approche de l'art du vitrail : histoire\, enjeux et évolution
URL:https://calenda-formation.labocleo.org/389439
DESCRIPTION:Le vitrail est un art majeur qui prend son essor dès le Moyen Âge et perdure jusqu’à aujourd’hui. Constitué de plomb et de verre peint\, le vitrail devient support iconographique de la liturgie et outil pédagogique pour illustrer les Écritures. Cette … Más informaciones https://calenda-formation.labocleo.org/389439
LOCATION:París
END:VEVENT
BEGIN:VEVENT
DTSTART;VALUE=DATE:20170131
DTEND;VALUE=DATE:20170201
UID:389439-20170131@calenda.revues.org
SUMMARY:Approche de l'art du vitrail : histoire\, enjeux et évolution
URL:https://calenda-formation.labocleo.org/389439
DESCRIPTION:Le vitrail est un art majeur qui prend son essor dès le Moyen Âge et perdure jusqu’à aujourd’hui. Constitué de plomb et de verre peint\, le vitrail devient support iconographique de la liturgie et outil pédagogique pour illustrer les Écritures. Cette … Más informaciones https://calenda-formation.labocleo.org/389439
LOCATION:París
END:VEVENT
BEGIN:VEVENT
DTSTART;VALUE=DATE:20170201
DTEND;VALUE=DATE:20170202
UID:389439-20170201@calenda.revues.org
SUMMARY:Approche de l'art du vitrail : histoire\, enjeux et évolution
URL:https://calenda-formation.labocleo.org/389439
DESCRIPTION:Le vitrail est un art majeur qui prend son essor dès le Moyen Âge et perdure jusqu’à aujourd’hui. Constitué de plomb et de verre peint\, le vitrail devient support iconographique de la liturgie et outil pédagogique pour illustrer les Écritures. Cette … Más informaciones https://calenda-formation.labocleo.org/389439
LOCATION:París
END:VEVENT
BEGIN:VEVENT
DTSTART;VALUE=DATE:20170202
DTEND;VALUE=DATE:20170203
UID:389439-20170202@calenda.revues.org
SUMMARY:Approche de l'art du vitrail : histoire\, enjeux et évolution
URL:https://calenda-formation.labocleo.org/389439
DESCRIPTION:Le vitrail est un art majeur qui prend son essor dès le Moyen Âge et perdure jusqu’à aujourd’hui. Constitué de plomb et de verre peint\, le vitrail devient support iconographique de la liturgie et outil pédagogique pour illustrer les Écritures. Cette … Más informaciones https://calenda-formation.labocleo.org/389439
LOCATION:París
END:VEVENT
END:VCALENDAR
