BEGIN:VCALENDAR
VERSION:2.0
PRODID:-//https://calenda-formation.labocleo.org
X-WR-CALNAME:Calenda
X-WR-TIMEZONE:Europe/Paris
CALSCALE:GREGORIAN
X-WR-CALDESC:O calendário de letras e de ciências sociais e humanas
METHOD:PUBLISH
BEGIN:VEVENT
DTSTART;VALUE=DATE:20170224
DTEND;VALUE=DATE:20170225
UID:390285-20170224@calenda.revues.org
SUMMARY:État des lieux des politiques migratoires en France et en Allemagne
URL:https://calenda-formation.labocleo.org/390285
DESCRIPTION:Accueillie à la Maison Heinrich Heine\, cette rencontre permettra d’étudier l’histoire migratoire de la France et de l’Allemagne\, l’intégration des migrants dans les deux pays depuis les années 1990 et la gestion française\, allemande et européenne de … @plus_info https://calenda-formation.labocleo.org/390285
LOCATION:Paris
END:VEVENT
END:VCALENDAR
