BEGIN:VCALENDAR
VERSION:2.0
PRODID:-//https://calenda-formation.labocleo.org
X-WR-CALNAME:Calenda
X-WR-TIMEZONE:Europe/Paris
CALSCALE:GREGORIAN
X-WR-CALDESC:Le calendrier des lettres et sciences humaines et sociales
METHOD:PUBLISH
BEGIN:VEVENT
DTSTART;VALUE=DATE:20170223
DTEND;VALUE=DATE:20170224
UID:390296-20170223@calenda.revues.org
SUMMARY:Politique migratoire en Allemagne
URL:https://calenda-formation.labocleo.org/390296
DESCRIPTION:Destiné aux doctorants et étudiants de Master 2\, cet atelier est organisé par le Centre d’information et de recherche sur l’Allemagne contemporaine (CIRAC)\, en partenariat avec l’Institut allemand de politique étrangère (DGAP)\, le centre de recherche… Weitere Informationen https://calenda-formation.labocleo.org/390296
LOCATION:Paris
END:VEVENT
END:VCALENDAR
