BEGIN:VCALENDAR
VERSION:2.0
PRODID:-//https://calenda-formation.labocleo.org
X-WR-CALNAME:Calenda
X-WR-TIMEZONE:Europe/Paris
CALSCALE:GREGORIAN
X-WR-CALDESC:The calendar for arts, humanities and social sciences
METHOD:PUBLISH
BEGIN:VEVENT
DTSTART;VALUE=DATE:20170531
DTEND;VALUE=DATE:20170601
UID:390578-20170531@calenda.revues.org
SUMMARY:Diplomacy of the city in the Latin\, Islamic and Byzantium worlds (12th-16th centuries)
URL:https://calenda-formation.labocleo.org/390578
DESCRIPTION:La première rencontre\, organisée par le Centre d'études médiévales de Montpellier (CEMM)\, vise à étudier le développement d’un droit d’ambassade. Le statut de la diplomatie et des ambassadeurs a en effet été abordé essentiellement « par le haut »\, c’… @plus_info https://calenda-formation.labocleo.org/390578
LOCATION:Montpellier
END:VEVENT
END:VCALENDAR
