BEGIN:VCALENDAR
VERSION:2.0
PRODID:-//https://calenda-formation.labocleo.org
X-WR-CALNAME:Calenda
X-WR-TIMEZONE:Europe/Paris
CALSCALE:GREGORIAN
X-WR-CALDESC:Le calendrier des lettres et sciences humaines et sociales
METHOD:PUBLISH
BEGIN:VEVENT
DTSTART;VALUE=DATE:20171231
DTEND;VALUE=DATE:20180101
UID:390608-20171231@calenda.revues.org
SUMMARY:« Cygne noir »\, revue d'exploration sémiotique
URL:https://calenda-formation.labocleo.org/390608
DESCRIPTION:La revue d’exploration sémiotique Cygne noir s’ouvre à la réception en continu d’articles originaux développant des recherches sur les signes ou présentant des résultats de recherches liées au champ de la sémiotique. Ainsi\, en plus d’un dossier théma… Más informaciones https://calenda-formation.labocleo.org/390608
LOCATION:
END:VEVENT
END:VCALENDAR
