BEGIN:VCALENDAR
VERSION:2.0
PRODID:-//https://calenda-formation.labocleo.org
X-WR-CALNAME:Calenda
X-WR-TIMEZONE:Europe/Paris
CALSCALE:GREGORIAN
X-WR-CALDESC:Le calendrier des lettres et sciences humaines et sociales
METHOD:PUBLISH
BEGIN:VEVENT
DTSTART;VALUE=DATE:20170213
DTEND;VALUE=DATE:20170214
UID:391171-20170213@calenda.revues.org
SUMMARY:Forum d'imagerie scientifique : quand les cellules rencontrent l'espace 
URL:https://calenda-formation.labocleo.org/391171
DESCRIPTION:Cet évènement est organisé par le Comité d'orientation stratégique des plateformes et la plateforme GéoBFC de la Maison des sciences de l'Homme de Dijon. … Weitere Informationen https://calenda-formation.labocleo.org/391171
LOCATION:Dijon
END:VEVENT
END:VCALENDAR
