BEGIN:VCALENDAR
VERSION:2.0
PRODID:-//https://calenda-formation.labocleo.org
X-WR-CALNAME:Calenda
X-WR-TIMEZONE:Europe/Paris
CALSCALE:GREGORIAN
X-WR-CALDESC:Le calendrier des lettres et sciences humaines et sociales
METHOD:PUBLISH
BEGIN:VEVENT
DTSTART;VALUE=DATE:20170203
DTEND;VALUE=DATE:20170204
UID:391675-20170203@calenda.revues.org
SUMMARY:Homeschooling\, home education\, instruction dans la famille\, école à la maison...
URL:https://calenda-formation.labocleo.org/391675
DESCRIPTION:  Ce séminaire présente et discute des travaux consacrés à la socialisation et à l’éducation des enfants qui\, soumis à l'instruction obligatoire\, ne sont pas scolarisés. Il porte en particulier sur les trajectoires biographiques\, les pratiques pédago… Weitere Informationen https://calenda-formation.labocleo.org/391675
LOCATION:Gennevilliers
END:VEVENT
BEGIN:VEVENT
DTSTART;VALUE=DATE:20170314
DTEND;VALUE=DATE:20170315
UID:391675-20170314@calenda.revues.org
SUMMARY:Homeschooling\, home education\, instruction dans la famille\, école à la maison...
URL:https://calenda-formation.labocleo.org/391675
DESCRIPTION:  Ce séminaire présente et discute des travaux consacrés à la socialisation et à l’éducation des enfants qui\, soumis à l'instruction obligatoire\, ne sont pas scolarisés. Il porte en particulier sur les trajectoires biographiques\, les pratiques pédago… Weitere Informationen https://calenda-formation.labocleo.org/391675
LOCATION:Gennevilliers
END:VEVENT
BEGIN:VEVENT
DTSTART;VALUE=DATE:20170516
DTEND;VALUE=DATE:20170517
UID:391675-20170516@calenda.revues.org
SUMMARY:Homeschooling\, home education\, instruction dans la famille\, école à la maison...
URL:https://calenda-formation.labocleo.org/391675
DESCRIPTION:  Ce séminaire présente et discute des travaux consacrés à la socialisation et à l’éducation des enfants qui\, soumis à l'instruction obligatoire\, ne sont pas scolarisés. Il porte en particulier sur les trajectoires biographiques\, les pratiques pédago… Weitere Informationen https://calenda-formation.labocleo.org/391675
LOCATION:Gennevilliers
END:VEVENT
END:VCALENDAR
