BEGIN:VCALENDAR
VERSION:2.0
PRODID:-//https://calenda-formation.labocleo.org
X-WR-CALNAME:Calenda
X-WR-TIMEZONE:Europe/Paris
CALSCALE:GREGORIAN
X-WR-CALDESC:The calendar for arts, humanities and social sciences
METHOD:PUBLISH
BEGIN:VEVENT
DTSTART;VALUE=DATE:20170220
DTEND;VALUE=DATE:20170221
UID:391788-20170220@calenda.revues.org
SUMMARY:Nurses of madness
URL:https://calenda-formation.labocleo.org/391788
DESCRIPTION:Organisé dans le cadre du LXXXVe congrès de l’Association francophone pour le savoir (ACFAS)\, ce colloque propose de réunir des historiennes mais aussi des professionnelles de santé\, afin d’étudier l’évolution du rôle de l’infirmières dans la prise e… @plus_info https://calenda-formation.labocleo.org/391788
LOCATION:Montreal
END:VEVENT
END:VCALENDAR
