BEGIN:VCALENDAR
VERSION:2.0
PRODID:-//https://calenda-formation.labocleo.org
X-WR-CALNAME:Calenda
X-WR-TIMEZONE:Europe/Paris
CALSCALE:GREGORIAN
X-WR-CALDESC:O calendário de letras e de ciências sociais e humanas
METHOD:PUBLISH
BEGIN:VEVENT
DTSTART;VALUE=DATE:20170217
DTEND;VALUE=DATE:20170218
UID:392517-20170217@calenda.revues.org
SUMMARY:Enjeux culturels et médiatiques des phénomènes sportifs contemporains
URL:https://calenda-formation.labocleo.org/392517
DESCRIPTION:Ce colloque explore les enjeux culturels et médiatiques au sein des phénomènes sportifs contemporains. En rassemblant des chercheurs issus de diverses disciplines en sciences humaines et sociales\, ce colloque abordera des thématiques émergentes dans … @plus_info https://calenda-formation.labocleo.org/392517
LOCATION:Montreal
END:VEVENT
END:VCALENDAR
