BEGIN:VCALENDAR
VERSION:2.0
PRODID:-//https://calenda-formation.labocleo.org
X-WR-CALNAME:Calenda
X-WR-TIMEZONE:Europe/Paris
CALSCALE:GREGORIAN
X-WR-CALDESC:Le calendrier des lettres et sciences humaines et sociales
METHOD:PUBLISH
BEGIN:VEVENT
DTSTART;VALUE=DATE:20170210
DTEND;VALUE=DATE:20170211
UID:392547-20170210@calenda.revues.org
SUMMARY:L’habitat en hauteur
URL:https://calenda-formation.labocleo.org/392547
DESCRIPTION:La recherche porte sur les enjeux liés à la verticalisation de l’habitat dans les métropoles contemporaines\, en s’attachant aussi bien à la production qu’aux discours et aux manières d’habiter sur plusieurs terrains\, notamment à Lyon. La personne rec… Más informaciones https://calenda-formation.labocleo.org/392547
LOCATION:Lyon
END:VEVENT
END:VCALENDAR
