BEGIN:VCALENDAR
VERSION:2.0
PRODID:-//https://calenda-formation.labocleo.org
X-WR-CALNAME:Calenda
X-WR-TIMEZONE:Europe/Paris
CALSCALE:GREGORIAN
X-WR-CALDESC:Le calendrier des lettres et sciences humaines et sociales
METHOD:PUBLISH
BEGIN:VEVENT
DTSTART;VALUE=DATE:20170315
DTEND;VALUE=DATE:20170316
UID:392589-20170315@calenda.revues.org
SUMMARY:Féminismes en révolution
URL:https://calenda-formation.labocleo.org/392589
DESCRIPTION:Ce numéro de Comment s'en sortir ? se propose de remettre à l'ordre du jour l'ambition de changement révolutionnaire dont est porteur le féminisme. On concevra celui-ci comme étant doté d'un privilège analytique reposant sur le pouvoir qu'il a de rév… Weitere Informationen https://calenda-formation.labocleo.org/392589
LOCATION:
END:VEVENT
END:VCALENDAR
