BEGIN:VCALENDAR
VERSION:2.0
PRODID:-//https://calenda-formation.labocleo.org
X-WR-CALNAME:Calenda
X-WR-TIMEZONE:Europe/Paris
CALSCALE:GREGORIAN
X-WR-CALDESC:The calendar for arts, humanities and social sciences
METHOD:PUBLISH
BEGIN:VEVENT
DTSTART;VALUE=DATE:20170224
DTEND;VALUE=DATE:20170225
UID:392657-20170224@calenda.revues.org
SUMMARY:How to study the history of the 5th Republic?
URL:https://calenda-formation.labocleo.org/392657
DESCRIPTION:La Société d'histoire de la Ve République organise au Palais du Luxembourg\, le 24 février 2017\, une première réunion autour d’une réflexion épistémologique et méthodologique. Jamais l’histoire du temps présent n’a disposé d’autant de matériaux. À ceu… @plus_info https://calenda-formation.labocleo.org/392657
LOCATION:Paris
END:VEVENT
END:VCALENDAR
