BEGIN:VCALENDAR
VERSION:2.0
PRODID:-//https://calenda-formation.labocleo.org
X-WR-CALNAME:Calenda
X-WR-TIMEZONE:Europe/Paris
CALSCALE:GREGORIAN
X-WR-CALDESC:The calendar for arts, humanities and social sciences
METHOD:PUBLISH
BEGIN:VEVENT
DTSTART;VALUE=DATE:20170207
DTEND;VALUE=DATE:20170208
UID:392717-20170207@calenda.revues.org
SUMMARY:Creation and subversion in fin de siècle popular imagery
URL:https://calenda-formation.labocleo.org/392717
DESCRIPTION:L’objet de ce séminaire est d’interroger la capacité subversive et créatrice de l’image populaire fin de siècle dans ses différentes expressions médiales et dans un cadre transnational qui permette d’en saisir la complexité. Il s’agit de mettre en év… @plus_info https://calenda-formation.labocleo.org/392717
LOCATION:Paris
END:VEVENT
BEGIN:VEVENT
DTSTART;VALUE=DATE:20170307
DTEND;VALUE=DATE:20170308
UID:392717-20170307@calenda.revues.org
SUMMARY:Creation and subversion in fin de siècle popular imagery
URL:https://calenda-formation.labocleo.org/392717
DESCRIPTION:L’objet de ce séminaire est d’interroger la capacité subversive et créatrice de l’image populaire fin de siècle dans ses différentes expressions médiales et dans un cadre transnational qui permette d’en saisir la complexité. Il s’agit de mettre en év… @plus_info https://calenda-formation.labocleo.org/392717
LOCATION:Paris
END:VEVENT
BEGIN:VEVENT
DTSTART;VALUE=DATE:20170502
DTEND;VALUE=DATE:20170503
UID:392717-20170502@calenda.revues.org
SUMMARY:Creation and subversion in fin de siècle popular imagery
URL:https://calenda-formation.labocleo.org/392717
DESCRIPTION:L’objet de ce séminaire est d’interroger la capacité subversive et créatrice de l’image populaire fin de siècle dans ses différentes expressions médiales et dans un cadre transnational qui permette d’en saisir la complexité. Il s’agit de mettre en év… @plus_info https://calenda-formation.labocleo.org/392717
LOCATION:Paris
END:VEVENT
BEGIN:VEVENT
DTSTART;VALUE=DATE:20170606
DTEND;VALUE=DATE:20170607
UID:392717-20170606@calenda.revues.org
SUMMARY:Creation and subversion in fin de siècle popular imagery
URL:https://calenda-formation.labocleo.org/392717
DESCRIPTION:L’objet de ce séminaire est d’interroger la capacité subversive et créatrice de l’image populaire fin de siècle dans ses différentes expressions médiales et dans un cadre transnational qui permette d’en saisir la complexité. Il s’agit de mettre en év… @plus_info https://calenda-formation.labocleo.org/392717
LOCATION:Paris
END:VEVENT
BEGIN:VEVENT
DTSTART;VALUE=DATE:20170627
DTEND;VALUE=DATE:20170628
UID:392717-20170627@calenda.revues.org
SUMMARY:Creation and subversion in fin de siècle popular imagery
URL:https://calenda-formation.labocleo.org/392717
DESCRIPTION:L’objet de ce séminaire est d’interroger la capacité subversive et créatrice de l’image populaire fin de siècle dans ses différentes expressions médiales et dans un cadre transnational qui permette d’en saisir la complexité. Il s’agit de mettre en év… @plus_info https://calenda-formation.labocleo.org/392717
LOCATION:Paris
END:VEVENT
END:VCALENDAR
