BEGIN:VCALENDAR
VERSION:2.0
PRODID:-//https://calenda-formation.labocleo.org
X-WR-CALNAME:Calenda
X-WR-TIMEZONE:Europe/Paris
CALSCALE:GREGORIAN
X-WR-CALDESC:The calendar for arts, humanities and social sciences
METHOD:PUBLISH
BEGIN:VEVENT
DTSTART;VALUE=DATE:20170215
DTEND;VALUE=DATE:20170216
UID:392744-20170215@calenda.revues.org
SUMMARY:Bodies in transition: Power\, knowledge and medical anthropology
URL:https://calenda-formation.labocleo.org/392744
DESCRIPTION:In 2017 the biannual conference of EASA Medical Anthropology Network will be hosted in Lisbon\, Portugal\, with the prospect of promoting a compact encounter with more plenaries and less parallel sessions. The purpose is to maximize the interweaving of… @plus_info https://calenda-formation.labocleo.org/392744
LOCATION:Lisbon
END:VEVENT
END:VCALENDAR
