BEGIN:VCALENDAR
VERSION:2.0
PRODID:-//https://calenda-formation.labocleo.org
X-WR-CALNAME:Calenda
X-WR-TIMEZONE:Europe/Paris
CALSCALE:GREGORIAN
X-WR-CALDESC:The calendar for arts, humanities and social sciences
METHOD:PUBLISH
BEGIN:VEVENT
DTSTART;VALUE=DATE:20171109
DTEND;VALUE=DATE:20171110
UID:393282-20171109@calenda.revues.org
SUMMARY:We agree - conflict resolution\, mediation and negotiation
URL:https://calenda-formation.labocleo.org/393282
DESCRIPTION:Ce colloque\, international et interdisciplinaire\, entend explorer les multiples dimensions de la mise en accord des individus et des groupes. Autour de ce thème général\, volontairement laissé ouvert\, toutes les problématiques\, toutes les thématiques … @plus_info https://calenda-formation.labocleo.org/393282
LOCATION:Royaumont
END:VEVENT
END:VCALENDAR
