BEGIN:VCALENDAR
VERSION:2.0
PRODID:-//https://calenda-formation.labocleo.org
X-WR-CALNAME:Calenda
X-WR-TIMEZONE:Europe/Paris
CALSCALE:GREGORIAN
X-WR-CALDESC:Le calendrier des lettres et sciences humaines et sociales
METHOD:PUBLISH
BEGIN:VEVENT
DTSTART;VALUE=DATE:20170220
DTEND;VALUE=DATE:20170221
UID:393571-20170220@calenda.revues.org
SUMMARY:École de néo-latin du Labex COMOD
URL:https://calenda-formation.labocleo.org/393571
DESCRIPTION:Cette école propose une formation intensive en néo-latin à travers l’étude de textes relevant de différentes disciplines (littérature\, philosophie\, théologie\, sciences) qui s’adresse à ceux qui souhaitent améliorer leur compréhension (par la lecture\,… Weitere Informationen https://calenda-formation.labocleo.org/393571
LOCATION:Lyon
END:VEVENT
END:VCALENDAR
