BEGIN:VCALENDAR
VERSION:2.0
PRODID:-//https://calenda-formation.labocleo.org
X-WR-CALNAME:Calenda
X-WR-TIMEZONE:Europe/Paris
CALSCALE:GREGORIAN
X-WR-CALDESC:The calendar for arts, humanities and social sciences
METHOD:PUBLISH
BEGIN:VEVENT
DTSTART;VALUE=DATE:20170228
DTEND;VALUE=DATE:20170301
UID:393656-20170228@calenda.revues.org
SUMMARY:Religious reform\, Christian democracy and political Islam - comparisons\, debate and prospection
URL:https://calenda-formation.labocleo.org/393656
DESCRIPTION:Cette année coïncide avec le cinquième centenaire du mouvement religieux réformateur (octobre 1517-octobre 2017) initié en Europe par le théologien allemand Martin Luther et qui avait eu progressivement un important impact en dehors de son pays d’ori… @plus_info https://calenda-formation.labocleo.org/393656
LOCATION:Tunis
END:VEVENT
END:VCALENDAR
