BEGIN:VCALENDAR
VERSION:2.0
PRODID:-//https://calenda-formation.labocleo.org
X-WR-CALNAME:Calenda
X-WR-TIMEZONE:Europe/Paris
CALSCALE:GREGORIAN
X-WR-CALDESC:The calendar for arts, humanities and social sciences
METHOD:PUBLISH
BEGIN:VEVENT
DTSTART;VALUE=DATE:20170330
DTEND;VALUE=DATE:20170331
UID:393797-20170330@calenda.revues.org
SUMMARY:Contemporary uses of Descartes.
URL:https://calenda-formation.labocleo.org/393797
DESCRIPTION:A call for papers is launched for the volume 18 of Methodos\, the online review of the research unit “Savoirs\, textes\, langage” (UMR 8163\, CNRS\, université de Lille) on the contemporary uses of Descartes. … @plus_info https://calenda-formation.labocleo.org/393797
LOCATION:Villeneuve-d'Ascq
END:VEVENT
END:VCALENDAR
