BEGIN:VCALENDAR
VERSION:2.0
PRODID:-//https://calenda-formation.labocleo.org
X-WR-CALNAME:Calenda
X-WR-TIMEZONE:Europe/Paris
CALSCALE:GREGORIAN
X-WR-CALDESC:Le calendrier des lettres et sciences humaines et sociales
METHOD:PUBLISH
BEGIN:VEVENT
DTSTART;VALUE=DATE:20170430
DTEND;VALUE=DATE:20170501
UID:394144-20170430@calenda.revues.org
SUMMARY:Grandes et petites mains de la beauté
URL:https://calenda-formation.labocleo.org/394144
DESCRIPTION:Le « travail de la beauté » consiste en l’exercice d’une activité professionnelle qui conçoit\, produit\, entretient ou distribue des formes socialement définies d’apparences. Exercé à des endroits éloignés de la stratification sociale\, cette activité … Más informaciones https://calenda-formation.labocleo.org/394144
LOCATION:París
END:VEVENT
END:VCALENDAR
