BEGIN:VCALENDAR
VERSION:2.0
PRODID:-//https://calenda-formation.labocleo.org
X-WR-CALNAME:Calenda
X-WR-TIMEZONE:Europe/Paris
CALSCALE:GREGORIAN
X-WR-CALDESC:The calendar for arts, humanities and social sciences
METHOD:PUBLISH
BEGIN:VEVENT
DTSTART;VALUE=DATE:20170310
DTEND;VALUE=DATE:20170311
UID:394443-20170310@calenda.revues.org
SUMMARY:"Livre ensemble" - plurilingualism and pluriculturalism in children's picture books
URL:https://calenda-formation.labocleo.org/394443
DESCRIPTION:Ce numéro thématique de la revue Strenae\, dans la continuité des travaux du projet « Livre Ensemble » mené entre l'L'Ecole Supérieure du Professorat et de l'Education (ESPE) Toulouse Midi-Pyrénées et le Laboratoire LLA-CREATIS de l'Université Toulous… @plus_info https://calenda-formation.labocleo.org/394443
LOCATION:
END:VEVENT
END:VCALENDAR
