BEGIN:VCALENDAR
VERSION:2.0
PRODID:-//https://calenda-formation.labocleo.org
X-WR-CALNAME:Calenda
X-WR-TIMEZONE:Europe/Paris
CALSCALE:GREGORIAN
X-WR-CALDESC:Le calendrier des lettres et sciences humaines et sociales
METHOD:PUBLISH
BEGIN:VEVENT
DTSTART;VALUE=DATE:20170918
DTEND;VALUE=DATE:20170919
UID:394538-20170918@calenda.revues.org
SUMMARY:Hygiène et santé en Bas-Languedoc oriental du XVIIIe siècle aux lendemains du premier conflit mondial
URL:https://calenda-formation.labocleo.org/394538
DESCRIPTION:Du siècle des Lumières\, qui fut aussi celui de Lavoisier et des topographies médicales\, aux lendemains du premier conflit mondial\, quels furent\, dans le Bas-Languedoc oriental caractérisé par la présence des zones montagneuses\, littorales (étangs et … Weitere Informationen https://calenda-formation.labocleo.org/394538
LOCATION:Nîmes
END:VEVENT
END:VCALENDAR
