BEGIN:VCALENDAR
VERSION:2.0
PRODID:-//https://calenda-formation.labocleo.org
X-WR-CALNAME:Calenda
X-WR-TIMEZONE:Europe/Paris
CALSCALE:GREGORIAN
X-WR-CALDESC:Le calendrier des lettres et sciences humaines et sociales
METHOD:PUBLISH
BEGIN:VEVENT
DTSTART;VALUE=DATE:20170531
DTEND;VALUE=DATE:20170601
UID:394548-20170531@calenda.revues.org
SUMMARY:Représentations de l’étrangère dans les littératures et l’art cinématographique au Maghreb
URL:https://calenda-formation.labocleo.org/394548
DESCRIPTION:Le regard européen jeté sur le Maghreb a eu longtemps une tendance réductrice\, en parlant de cette aire de civilisation comme d’un tout unitaire\, sans tenir compte des spécificités locales et nationales qui ont d’ailleurs fasciné et attiré depuis tou… Weitere Informationen https://calenda-formation.labocleo.org/394548
LOCATION:Bukarest
END:VEVENT
END:VCALENDAR
