BEGIN:VCALENDAR
VERSION:2.0
PRODID:-//https://calenda-formation.labocleo.org
X-WR-CALNAME:Calenda
X-WR-TIMEZONE:Europe/Paris
CALSCALE:GREGORIAN
X-WR-CALDESC:Le calendrier des lettres et sciences humaines et sociales
METHOD:PUBLISH
BEGIN:VEVENT
DTSTART;VALUE=DATE:20170309
DTEND;VALUE=DATE:20170310
UID:396065-20170309@calenda.revues.org
SUMMARY:Ugo Niccolò Foscolo entre Italie et Grèce
URL:https://calenda-formation.labocleo.org/396065
DESCRIPTION:Tout en ayant délibérément choisi de s’exprimer en langue italienne\, Ugo Foscolo n’oublia jamais son île natale\, Zante ; il ne cessa de songer à la Grèce\, ni de se soucier de son sort. Après sa mort\, l’inscription dans le panthéon des grands italiens… Weitere Informationen https://calenda-formation.labocleo.org/396065
LOCATION:Nizza\, Ventimiglia
END:VEVENT
BEGIN:VEVENT
DTSTART;VALUE=DATE:20170310
DTEND;VALUE=DATE:20170311
UID:396065-20170310@calenda.revues.org
SUMMARY:Ugo Niccolò Foscolo entre Italie et Grèce
URL:https://calenda-formation.labocleo.org/396065
DESCRIPTION:Tout en ayant délibérément choisi de s’exprimer en langue italienne\, Ugo Foscolo n’oublia jamais son île natale\, Zante ; il ne cessa de songer à la Grèce\, ni de se soucier de son sort. Après sa mort\, l’inscription dans le panthéon des grands italiens… Weitere Informationen https://calenda-formation.labocleo.org/396065
LOCATION:Nizza\, Ventimiglia
END:VEVENT
BEGIN:VEVENT
DTSTART;VALUE=DATE:20170311
DTEND;VALUE=DATE:20170312
UID:396065-20170311@calenda.revues.org
SUMMARY:Ugo Niccolò Foscolo entre Italie et Grèce
URL:https://calenda-formation.labocleo.org/396065
DESCRIPTION:Tout en ayant délibérément choisi de s’exprimer en langue italienne\, Ugo Foscolo n’oublia jamais son île natale\, Zante ; il ne cessa de songer à la Grèce\, ni de se soucier de son sort. Après sa mort\, l’inscription dans le panthéon des grands italiens… Weitere Informationen https://calenda-formation.labocleo.org/396065
LOCATION:Nizza\, Ventimiglia
END:VEVENT
END:VCALENDAR
