BEGIN:VCALENDAR
VERSION:2.0
PRODID:-//https://calenda-formation.labocleo.org
X-WR-CALNAME:Calenda
X-WR-TIMEZONE:Europe/Paris
CALSCALE:GREGORIAN
X-WR-CALDESC:Le calendrier des lettres et sciences humaines et sociales
METHOD:PUBLISH
BEGIN:VEVENT
DTSTART;VALUE=DATE:20170505
DTEND;VALUE=DATE:20170506
UID:396261-20170505@calenda.revues.org
SUMMARY:Révolution et émancipation
URL:https://calenda-formation.labocleo.org/396261
DESCRIPTION:Au sens strict\, une révolution est un changement de régime politique. Elle est aussi définie par le Larousse comme un « changement brusque et violent dans la structure politique et sociale d'un État\, qui se produit quand un groupe se révolte contre l… Weitere Informationen https://calenda-formation.labocleo.org/396261
LOCATION:
END:VEVENT
END:VCALENDAR
