BEGIN:VCALENDAR
VERSION:2.0
PRODID:-//https://calenda-formation.labocleo.org
X-WR-CALNAME:Calenda
X-WR-TIMEZONE:Europe/Paris
CALSCALE:GREGORIAN
X-WR-CALDESC:The calendar for arts, humanities and social sciences
METHOD:PUBLISH
BEGIN:VEVENT
DTSTART;VALUE=DATE:20170511
DTEND;VALUE=DATE:20170512
UID:397210-20170511@calenda.revues.org
SUMMARY:Methods and strategies of information management for organisations: from big data to thick data
URL:https://calenda-formation.labocleo.org/397210
DESCRIPTION:La problématique de la gestion des données par les organisations n’est pas récente\, mais l’accès à des données massives produites par le monde digital conduit indéniablement les organisations à gérer\, traiter\, utiliser et réutiliser leurs données dif… @plus_info https://calenda-formation.labocleo.org/397210
LOCATION:Montreal
END:VEVENT
BEGIN:VEVENT
DTSTART;VALUE=DATE:20170512
DTEND;VALUE=DATE:20170513
UID:397210-20170512@calenda.revues.org
SUMMARY:Methods and strategies of information management for organisations: from big data to thick data
URL:https://calenda-formation.labocleo.org/397210
DESCRIPTION:La problématique de la gestion des données par les organisations n’est pas récente\, mais l’accès à des données massives produites par le monde digital conduit indéniablement les organisations à gérer\, traiter\, utiliser et réutiliser leurs données dif… @plus_info https://calenda-formation.labocleo.org/397210
LOCATION:Montreal
END:VEVENT
END:VCALENDAR
