BEGIN:VCALENDAR
VERSION:2.0
PRODID:-//https://calenda-formation.labocleo.org
X-WR-CALNAME:Calenda
X-WR-TIMEZONE:Europe/Paris
CALSCALE:GREGORIAN
X-WR-CALDESC:Le calendrier des lettres et sciences humaines et sociales
METHOD:PUBLISH
BEGIN:VEVENT
DTSTART;VALUE=DATE:20171030
DTEND;VALUE=DATE:20171031
UID:397395-20171030@calenda.revues.org
SUMMARY:Comptes rendus d’édition et notes de lecture
URL:https://calenda-formation.labocleo.org/397395
DESCRIPTION:Pour ses prochains numéros\, RELIEF souhaiterait développer en particulier la rubrique des comptes rendus d’édition et notes de lecture en favorisant tout particulièrement les nouvelles approches sociologiques et pragmatiques. Ces recensions devront s… Weitere Informationen https://calenda-formation.labocleo.org/397395
LOCATION:
END:VEVENT
END:VCALENDAR
