BEGIN:VCALENDAR
VERSION:2.0
PRODID:-//https://calenda-formation.labocleo.org
X-WR-CALNAME:Calenda
X-WR-TIMEZONE:Europe/Paris
CALSCALE:GREGORIAN
X-WR-CALDESC:The calendar for arts, humanities and social sciences
METHOD:PUBLISH
BEGIN:VEVENT
DTSTART;VALUE=DATE:20170331
DTEND;VALUE=DATE:20170401
UID:397399-20170331@calenda.revues.org
SUMMARY:The challenge of afterwards - the postdoc phase in France and Germany
URL:https://calenda-formation.labocleo.org/397399
DESCRIPTION:La soutenance d’une thèse de doctorat marque la fin d’un cycle et la reconnaissance de ses pairs. Mais elle ouvre dans le même temps une phase d’incertitudes et d’inquiétudes légitimes sur son avenir professionnel à court\, moyen et long terme. Quel q… @plus_info https://calenda-formation.labocleo.org/397399
LOCATION:Berlin
END:VEVENT
END:VCALENDAR
