BEGIN:VCALENDAR
VERSION:2.0
PRODID:-//https://calenda-formation.labocleo.org
X-WR-CALNAME:Calenda
X-WR-TIMEZONE:Europe/Paris
CALSCALE:GREGORIAN
X-WR-CALDESC:Le calendrier des lettres et sciences humaines et sociales
METHOD:PUBLISH
BEGIN:VEVENT
DTSTART;VALUE=DATE:20170407
DTEND;VALUE=DATE:20170408
UID:397403-20170407@calenda.revues.org
SUMMARY:Les résidences d’écrivains et d’artistes : des dispositifs de création et de médiation
URL:https://calenda-formation.labocleo.org/397403
DESCRIPTION:Ce numéro de Culture & Musées a pour ambition d’analyser le dispositif « résidence » et ses différentes configurations\, qui recouvrent\, depuis son institutionnalisation au cours des années 1980\, des formes et des réalités extrêmement variées en fonct… Más informaciones https://calenda-formation.labocleo.org/397403
LOCATION:
END:VEVENT
END:VCALENDAR
