BEGIN:VCALENDAR
VERSION:2.0
PRODID:-//https://calenda-formation.labocleo.org
X-WR-CALNAME:Calenda
X-WR-TIMEZONE:Europe/Paris
CALSCALE:GREGORIAN
X-WR-CALDESC:O calendário de letras e de ciências sociais e humanas
METHOD:PUBLISH
BEGIN:VEVENT
DTSTART;VALUE=DATE:20170315
DTEND;VALUE=DATE:20170316
UID:397733-20170315@calenda.revues.org
SUMMARY:Ludovico Ariosto : ses Satires et sa vie
URL:https://calenda-formation.labocleo.org/397733
DESCRIPTION:L’interprétation des Satires semble\, depuis des décennies et malgré de nombreuses contributions originales (Floriani\, Corsaro\, Berra\, Villa\, etc.)\, conditionnée par les brillantes lectures de Santorre Debenedetti (dont l’article fondateur\, Intorno al… @plus_info https://calenda-formation.labocleo.org/397733
LOCATION:Amiens
END:VEVENT
END:VCALENDAR
