BEGIN:VCALENDAR
VERSION:2.0
PRODID:-//https://calenda-formation.labocleo.org
X-WR-CALNAME:Calenda
X-WR-TIMEZONE:Europe/Paris
CALSCALE:GREGORIAN
X-WR-CALDESC:Le calendrier des lettres et sciences humaines et sociales
METHOD:PUBLISH
BEGIN:VEVENT
DTSTART;VALUE=DATE:20170529
DTEND;VALUE=DATE:20170530
UID:397783-20170529@calenda.revues.org
SUMMARY:Identités au sein des espaces et des territoires des Suds
URL:https://calenda-formation.labocleo.org/397783
DESCRIPTION:Concept largement utilisé dans les sciences humaines\, l’identité individuelle ou collective — comme le dit Louis Jacques Dorais — « est un phénomène dynamique\, un bricolage relationnel\, une construction en perpétuel mouvement apte à se transformer se… @plus_info https://calenda-formation.labocleo.org/397783
LOCATION:Montpellier
END:VEVENT
END:VCALENDAR
