BEGIN:VCALENDAR
VERSION:2.0
PRODID:-//https://calenda-formation.labocleo.org
X-WR-CALNAME:Calenda
X-WR-TIMEZONE:Europe/Paris
CALSCALE:GREGORIAN
X-WR-CALDESC:Le calendrier des lettres et sciences humaines et sociales
METHOD:PUBLISH
BEGIN:VEVENT
DTSTART;VALUE=DATE:20170223
DTEND;VALUE=DATE:20170224
UID:397855-20170223@calenda.revues.org
SUMMARY:Aux sources de l'intime
URL:https://calenda-formation.labocleo.org/397855
DESCRIPTION:Journaux intimes\, documents personnels et archives du for privé constituent une source de choix pour les historien·ne.· et chercheur·e·s en SHS en ce qu’ils offrent un accès privilégié à la parole et à la subjectivité des acteurs et actrices. Pour au… Weitere Informationen https://calenda-formation.labocleo.org/397855
LOCATION:Paris
END:VEVENT
BEGIN:VEVENT
DTSTART;VALUE=DATE:20170302
DTEND;VALUE=DATE:20170303
UID:397855-20170302@calenda.revues.org
SUMMARY:Aux sources de l'intime
URL:https://calenda-formation.labocleo.org/397855
DESCRIPTION:Journaux intimes\, documents personnels et archives du for privé constituent une source de choix pour les historien·ne.· et chercheur·e·s en SHS en ce qu’ils offrent un accès privilégié à la parole et à la subjectivité des acteurs et actrices. Pour au… Weitere Informationen https://calenda-formation.labocleo.org/397855
LOCATION:Paris
END:VEVENT
BEGIN:VEVENT
DTSTART;VALUE=DATE:20170307
DTEND;VALUE=DATE:20170308
UID:397855-20170307@calenda.revues.org
SUMMARY:Aux sources de l'intime
URL:https://calenda-formation.labocleo.org/397855
DESCRIPTION:Journaux intimes\, documents personnels et archives du for privé constituent une source de choix pour les historien·ne.· et chercheur·e·s en SHS en ce qu’ils offrent un accès privilégié à la parole et à la subjectivité des acteurs et actrices. Pour au… Weitere Informationen https://calenda-formation.labocleo.org/397855
LOCATION:Paris
END:VEVENT
BEGIN:VEVENT
DTSTART;VALUE=DATE:20170309
DTEND;VALUE=DATE:20170310
UID:397855-20170309@calenda.revues.org
SUMMARY:Aux sources de l'intime
URL:https://calenda-formation.labocleo.org/397855
DESCRIPTION:Journaux intimes\, documents personnels et archives du for privé constituent une source de choix pour les historien·ne.· et chercheur·e·s en SHS en ce qu’ils offrent un accès privilégié à la parole et à la subjectivité des acteurs et actrices. Pour au… Weitere Informationen https://calenda-formation.labocleo.org/397855
LOCATION:Paris
END:VEVENT
BEGIN:VEVENT
DTSTART;VALUE=DATE:20170316
DTEND;VALUE=DATE:20170317
UID:397855-20170316@calenda.revues.org
SUMMARY:Aux sources de l'intime
URL:https://calenda-formation.labocleo.org/397855
DESCRIPTION:Journaux intimes\, documents personnels et archives du for privé constituent une source de choix pour les historien·ne.· et chercheur·e·s en SHS en ce qu’ils offrent un accès privilégié à la parole et à la subjectivité des acteurs et actrices. Pour au… Weitere Informationen https://calenda-formation.labocleo.org/397855
LOCATION:Paris
END:VEVENT
BEGIN:VEVENT
DTSTART;VALUE=DATE:20170323
DTEND;VALUE=DATE:20170324
UID:397855-20170323@calenda.revues.org
SUMMARY:Aux sources de l'intime
URL:https://calenda-formation.labocleo.org/397855
DESCRIPTION:Journaux intimes\, documents personnels et archives du for privé constituent une source de choix pour les historien·ne.· et chercheur·e·s en SHS en ce qu’ils offrent un accès privilégié à la parole et à la subjectivité des acteurs et actrices. Pour au… Weitere Informationen https://calenda-formation.labocleo.org/397855
LOCATION:Paris
END:VEVENT
BEGIN:VEVENT
DTSTART;VALUE=DATE:20170420
DTEND;VALUE=DATE:20170421
UID:397855-20170420@calenda.revues.org
SUMMARY:Aux sources de l'intime
URL:https://calenda-formation.labocleo.org/397855
DESCRIPTION:Journaux intimes\, documents personnels et archives du for privé constituent une source de choix pour les historien·ne.· et chercheur·e·s en SHS en ce qu’ils offrent un accès privilégié à la parole et à la subjectivité des acteurs et actrices. Pour au… Weitere Informationen https://calenda-formation.labocleo.org/397855
LOCATION:Paris
END:VEVENT
BEGIN:VEVENT
DTSTART;VALUE=DATE:20170518
DTEND;VALUE=DATE:20170519
UID:397855-20170518@calenda.revues.org
SUMMARY:Aux sources de l'intime
URL:https://calenda-formation.labocleo.org/397855
DESCRIPTION:Journaux intimes\, documents personnels et archives du for privé constituent une source de choix pour les historien·ne.· et chercheur·e·s en SHS en ce qu’ils offrent un accès privilégié à la parole et à la subjectivité des acteurs et actrices. Pour au… Weitere Informationen https://calenda-formation.labocleo.org/397855
LOCATION:Paris
END:VEVENT
END:VCALENDAR
