BEGIN:VCALENDAR
VERSION:2.0
PRODID:-//https://calenda-formation.labocleo.org
X-WR-CALNAME:Calenda
X-WR-TIMEZONE:Europe/Paris
CALSCALE:GREGORIAN
X-WR-CALDESC:Le calendrier des lettres et sciences humaines et sociales
METHOD:PUBLISH
BEGIN:VEVENT
DTSTART;VALUE=DATE:20170327
DTEND;VALUE=DATE:20170328
UID:398030-20170327@calenda.revues.org
SUMMARY:La recherche et l'ordinaire | Injonctions\, formatages\, résistances
URL:https://calenda-formation.labocleo.org/398030
DESCRIPTION:L'équipe « Pratiques et ressources de l'information et des médiations » (Prim) de l'université de Tours organise les 27 et 28 mars 2017 prochains son second workshop « Recherches en communication ». Le premier jour sera confié à Joëlle Le Marec autou… Weitere Informationen https://calenda-formation.labocleo.org/398030
LOCATION:Tours
END:VEVENT
BEGIN:VEVENT
DTSTART;VALUE=DATE:20170328
DTEND;VALUE=DATE:20170329
UID:398030-20170328@calenda.revues.org
SUMMARY:La recherche et l'ordinaire | Injonctions\, formatages\, résistances
URL:https://calenda-formation.labocleo.org/398030
DESCRIPTION:L'équipe « Pratiques et ressources de l'information et des médiations » (Prim) de l'université de Tours organise les 27 et 28 mars 2017 prochains son second workshop « Recherches en communication ». Le premier jour sera confié à Joëlle Le Marec autou… Weitere Informationen https://calenda-formation.labocleo.org/398030
LOCATION:Tours
END:VEVENT
END:VCALENDAR
