BEGIN:VCALENDAR
VERSION:2.0
PRODID:-//https://calenda-formation.labocleo.org
X-WR-CALNAME:Calenda
X-WR-TIMEZONE:Europe/Paris
CALSCALE:GREGORIAN
X-WR-CALDESC:Le calendrier des lettres et sciences humaines et sociales
METHOD:PUBLISH
BEGIN:VEVENT
DTSTART;VALUE=DATE:20170831
DTEND;VALUE=DATE:20170901
UID:398282-20170831@calenda.revues.org
SUMMARY:Morimond 1117-2017 : approche pluridisciplinaire d'un réseau monastique
URL:https://calenda-formation.labocleo.org/398282
DESCRIPTION:Ce colloque accorde une place à l’époque cistercienne des origines\, du XIIe au milieu du XIVe siècle\, mais il s’intéresse aussi au devenir du site\, de ses abbés et de ses religieux à l’époque moderne. Il pose la question de la fondation et du dévelop… @plus_info https://calenda-formation.labocleo.org/398282
LOCATION:Langres\, Chaumont
END:VEVENT
BEGIN:VEVENT
DTSTART;VALUE=DATE:20170901
DTEND;VALUE=DATE:20170902
UID:398282-20170901@calenda.revues.org
SUMMARY:Morimond 1117-2017 : approche pluridisciplinaire d'un réseau monastique
URL:https://calenda-formation.labocleo.org/398282
DESCRIPTION:Ce colloque accorde une place à l’époque cistercienne des origines\, du XIIe au milieu du XIVe siècle\, mais il s’intéresse aussi au devenir du site\, de ses abbés et de ses religieux à l’époque moderne. Il pose la question de la fondation et du dévelop… @plus_info https://calenda-formation.labocleo.org/398282
LOCATION:Langres\, Chaumont
END:VEVENT
BEGIN:VEVENT
DTSTART;VALUE=DATE:20170902
DTEND;VALUE=DATE:20170903
UID:398282-20170902@calenda.revues.org
SUMMARY:Morimond 1117-2017 : approche pluridisciplinaire d'un réseau monastique
URL:https://calenda-formation.labocleo.org/398282
DESCRIPTION:Ce colloque accorde une place à l’époque cistercienne des origines\, du XIIe au milieu du XIVe siècle\, mais il s’intéresse aussi au devenir du site\, de ses abbés et de ses religieux à l’époque moderne. Il pose la question de la fondation et du dévelop… @plus_info https://calenda-formation.labocleo.org/398282
LOCATION:Langres\, Chaumont
END:VEVENT
END:VCALENDAR
