BEGIN:VCALENDAR
VERSION:2.0
PRODID:-//https://calenda-formation.labocleo.org
X-WR-CALNAME:Calenda
X-WR-TIMEZONE:Europe/Paris
CALSCALE:GREGORIAN
X-WR-CALDESC:Le calendrier des lettres et sciences humaines et sociales
METHOD:PUBLISH
BEGIN:VEVENT
DTSTART;VALUE=DATE:20170323
DTEND;VALUE=DATE:20170324
UID:398330-20170323@calenda.revues.org
SUMMARY:Littérature(s) noire(s)?
URL:https://calenda-formation.labocleo.org/398330
DESCRIPTION:Les auteurs caribéens ou d’Afrique sub-saharienne\, parfois simplement d’origine diasporique\, rassemblés sous le vocable « francophonie »\, ont pour dénominateur commun l’usage du français et d'être catégorisés comme noir(es). Une telle conception ne v… @plus_info https://calenda-formation.labocleo.org/398330
LOCATION:
END:VEVENT
END:VCALENDAR
