BEGIN:VCALENDAR
VERSION:2.0
PRODID:-//https://calenda-formation.labocleo.org
X-WR-CALNAME:Calenda
X-WR-TIMEZONE:Europe/Paris
CALSCALE:GREGORIAN
X-WR-CALDESC:The calendar for arts, humanities and social sciences
METHOD:PUBLISH
BEGIN:VEVENT
DTSTART;VALUE=DATE:20170530
DTEND;VALUE=DATE:20170531
UID:398588-20170530@calenda.revues.org
SUMMARY:Social Sciences and Humanities Research: translating findings into medical practices 
URL:https://calenda-formation.labocleo.org/398588
DESCRIPTION:The aim of this international conference is to initiate a multi- and interdisciplinary discussion\, involving various actors\, on the use and utility of social science research for and by health professionals\, broadly defined. Drawing on examples from … @plus_info https://calenda-formation.labocleo.org/398588
LOCATION:Marseille
END:VEVENT
END:VCALENDAR
