BEGIN:VCALENDAR
VERSION:2.0
PRODID:-//https://calenda-formation.labocleo.org
X-WR-CALNAME:Calenda
X-WR-TIMEZONE:Europe/Paris
CALSCALE:GREGORIAN
X-WR-CALDESC:The calendar for arts, humanities and social sciences
METHOD:PUBLISH
BEGIN:VEVENT
DTSTART;VALUE=DATE:20170415
DTEND;VALUE=DATE:20170416
UID:398697-20170415@calenda.revues.org
SUMMARY:Interpreting history in the decorative arts in the 18th century
URL:https://calenda-formation.labocleo.org/398697
DESCRIPTION:À la suite de Félibien\, qui hisse le « grand genre » au sommet de la hiérarchie des sujets à représenter en 1667\, la peinture d’histoire est devenue un enjeu important de l’historiographie. Elle est notamment l’objet d’un ouvrage\, daté mais fondament… @plus_info https://calenda-formation.labocleo.org/398697
LOCATION:Paris
END:VEVENT
END:VCALENDAR
